BEGIN:VCALENDAR
VERSION:2.0
PRODID:-//Amogh Holisthal Society - ECPv6.15.20//NONSGML v1.0//EN
CALSCALE:GREGORIAN
METHOD:PUBLISH
X-ORIGINAL-URL:https://amoghholisthalsociety.com
X-WR-CALDESC:Events for Amogh Holisthal Society
REFRESH-INTERVAL;VALUE=DURATION:PT1H
X-Robots-Tag:noindex
X-PUBLISHED-TTL:PT1H
BEGIN:VTIMEZONE
TZID:UTC
BEGIN:STANDARD
TZOFFSETFROM:+0000
TZOFFSETTO:+0000
TZNAME:UTC
DTSTART:20220101T000000
END:STANDARD
END:VTIMEZONE
BEGIN:VEVENT
DTSTART;TZID=UTC:20250421T000000
DTEND;TZID=UTC:20250421T150000
DTSTAMP:20260420T155624
CREATED:20220305T064748Z
LAST-MODIFIED:20260121T114519Z
UID:779-1745193600-1745247600@amoghholisthalsociety.com
SUMMARY:Distribution of fruits by Ngo member on birthday at thalassemia ward at DMC ludhiana
DESCRIPTION:On the occasion of a birthday celebration\, members of Amogh Holisthal Society spread joy and compassion by distributing fresh fruits to patients in the Thalassemia Ward at DMC Ludhiana. The thoughtful initiative aimed to bring smiles to children and families undergoing long-term treatment\, while also promoting the importance of nutrition and care. The members interacted warmly with the patients\, making the day special and memorable. Such small yet meaningful gestures reflect the society’s commitment to social responsibility\, empathy\, and support for those battling chronic illnesses.
URL:https://amoghholisthalsociety.com/event/distribution-of-fruits/
CATEGORIES:Upcoming Event
ATTACH;FMTTYPE=image/webp:https://amoghholisthalsociety.com/wp-content/uploads/2022/03/1-4.webp
END:VEVENT
BEGIN:VEVENT
DTSTART;TZID=UTC:20230320T110000
DTEND;TZID=UTC:20230320T140000
DTSTAMP:20260420T155624
CREATED:20220305T064010Z
LAST-MODIFIED:20260313T095906Z
UID:774-1679310000-1679320800@amoghholisthalsociety.com
SUMMARY:Yoga class going on at Amogh Holisthal Society
DESCRIPTION:🧘 Yoga Classes at Amogh Holisthal Society \nRejuvenate your mind and body with regular yoga sessions at Amogh Holisthal Society. These classes focus on improving flexibility\, strength\, breathing\, and overall well-being through guided yoga practices suitable for all age groups. Join the sessions to start your day with positivity\, better health\, and inner peace. 🌿
URL:https://amoghholisthalsociety.com/event/yoga-class-going-on-at-amogh-holisthal-society/
CATEGORIES:Upcoming Event
ATTACH;FMTTYPE=image/jpeg:https://amoghholisthalsociety.com/wp-content/uploads/2026/03/WhatsApp-Image-2026-03-13-at-3.11.38-PM-2.jpeg
END:VEVENT
BEGIN:VEVENT
DTSTART;TZID=UTC:20230215T100000
DTEND;TZID=UTC:20230215T160000
DTSTAMP:20260420T155624
CREATED:20220305T063905Z
LAST-MODIFIED:20260313T100109Z
UID:771-1676455200-1676476800@amoghholisthalsociety.com
SUMMARY:Tree plantation on birthday
DESCRIPTION:🌱 Tree Plantation on Birthday at Amogh Holisthal Society \nAt Amogh Holisthal Society\, birthdays are celebrated with a meaningful gesture—planting a tree. This beautiful initiative promotes environmental awareness while making special days more memorable. By planting a sapling on their birthday\, residents contribute to a greener future and leave a lasting gift for nature. 🌳💚
URL:https://amoghholisthalsociety.com/event/tree-plantation-on-birthday/
LOCATION:69 Newyork City.\, Address
CATEGORIES:Upcoming Event
ATTACH;FMTTYPE=image/jpeg:https://amoghholisthalsociety.com/wp-content/uploads/2026/03/WhatsApp-Image-2026-03-13-at-3.11.40-PM.jpeg
END:VEVENT
BEGIN:VEVENT
DTSTART;TZID=UTC:20230208T100000
DTEND;TZID=UTC:20230208T150000
DTSTAMP:20260420T155624
CREATED:20220307T130049Z
LAST-MODIFIED:20260313T101240Z
UID:994-1675850400-1675868400@amoghholisthalsociety.com
SUMMARY:Awareness and Prevention of Anaemia
DESCRIPTION:An awareness session on anaemia was conducted to educate people about its causes\, symptoms\, and preventive measures. The session highlighted the importance of proper nutrition\, iron-rich foods\, and regular health check-ups to prevent anaemia and maintain good health. Participants gained valuable knowledge on how simple lifestyle and dietary changes can help in preventing this common health condition.
URL:https://amoghholisthalsociety.com/event/charity-for-education-5/
CATEGORIES:Upcoming Event
ATTACH;FMTTYPE=image/jpeg:https://amoghholisthalsociety.com/wp-content/uploads/2026/03/WhatsApp-Image-2026-03-13-at-3.11.39-PM.jpeg
END:VEVENT
BEGIN:VEVENT
DTSTART;TZID=UTC:20230206T100000
DTEND;TZID=UTC:20230206T150000
DTSTAMP:20260420T155624
CREATED:20220309T070447Z
LAST-MODIFIED:20260313T100251Z
UID:1151-1675677600-1675695600@amoghholisthalsociety.com
SUMMARY:My First Holistic Health Lecture at LIC Jalandhar
DESCRIPTION:My first lecture on Holistic Health was delivered to around 50 employees of LIC\, Jalandhar in September 2024. It was a great and highly interactive session where we discussed the importance of a balanced lifestyle\, mental well-being\, and natural ways to maintain overall health. The enthusiastic participation and engaging discussions made the session truly memorable and inspiring.
URL:https://amoghholisthalsociety.com/event/my-first-holistic-health-lecture-at-lic-jalandhar/
CATEGORIES:Upcoming Event
ATTACH;FMTTYPE=image/jpeg:https://amoghholisthalsociety.com/wp-content/uploads/2026/03/WhatsApp-Image-2026-03-13-at-3.11.41-PM.jpeg
END:VEVENT
BEGIN:VEVENT
DTSTART;TZID=UTC:20230112T090000
DTEND;TZID=UTC:20230112T150000
DTSTAMP:20260420T155624
CREATED:20220305T063611Z
LAST-MODIFIED:20260313T101200Z
UID:766-1673514000-1673535600@amoghholisthalsociety.com
SUMMARY:Blood Donation Camp Organized
DESCRIPTION:A blood donation camp was successfully organized with the aim of supporting patients in need and promoting the spirit of humanity. Volunteers and donors came forward enthusiastically to contribute to this noble cause\, helping save lives and spreading awareness about the importance of regular blood donation.
URL:https://amoghholisthalsociety.com/event/blood-donation-camp-organized/
CATEGORIES:Upcoming Event
ATTACH;FMTTYPE=image/jpeg:https://amoghholisthalsociety.com/wp-content/uploads/2026/03/WhatsApp-Image-2026-03-13-at-3.11.39-PM-1.jpeg
END:VEVENT
END:VCALENDAR